BEGIN:VCALENDAR
VERSION:2.0
PRODID:-//Worcester Economic Club - ECPv6.15.20//NONSGML v1.0//EN
CALSCALE:GREGORIAN
METHOD:PUBLISH
X-WR-CALNAME:Worcester Economic Club
X-ORIGINAL-URL:https://www.economicclub.net
X-WR-CALDESC:Events for Worcester Economic Club
REFRESH-INTERVAL;VALUE=DURATION:PT1H
X-Robots-Tag:noindex
X-PUBLISHED-TTL:PT1H
BEGIN:VTIMEZONE
TZID:America/New_York
BEGIN:DAYLIGHT
TZOFFSETFROM:-0500
TZOFFSETTO:-0400
TZNAME:EDT
DTSTART:20250309T070000
END:DAYLIGHT
BEGIN:STANDARD
TZOFFSETFROM:-0400
TZOFFSETTO:-0500
TZNAME:EST
DTSTART:20251102T060000
END:STANDARD
BEGIN:DAYLIGHT
TZOFFSETFROM:-0500
TZOFFSETTO:-0400
TZNAME:EDT
DTSTART:20260308T070000
END:DAYLIGHT
BEGIN:STANDARD
TZOFFSETFROM:-0400
TZOFFSETTO:-0500
TZNAME:EST
DTSTART:20261101T060000
END:STANDARD
BEGIN:DAYLIGHT
TZOFFSETFROM:-0500
TZOFFSETTO:-0400
TZNAME:EDT
DTSTART:20270314T070000
END:DAYLIGHT
BEGIN:STANDARD
TZOFFSETFROM:-0400
TZOFFSETTO:-0500
TZNAME:EST
DTSTART:20271107T060000
END:STANDARD
END:VTIMEZONE
BEGIN:VEVENT
DTSTART;TZID=America/New_York:20260512T171500
DTEND;TZID=America/New_York:20260512T200000
DTSTAMP:20260421T074153
CREATED:20260302T174817Z
LAST-MODIFIED:20260410T141317Z
UID:7334-1778606100-1778616000@www.economicclub.net
SUMMARY:Dr. Anil Kaul
DESCRIPTION:Location:\nCollege of the Holy Cross\n1 College Street\, Worcester\n \nAgenda:\n5:15pm – Cocktail Reception\n6:15pm – Dinner and Speaker \nHow AI Is Reshaping the Workplace: Implications for the Economy\, Organizations\, and Careers\nAnil is passionate about building companies\, products\, and constantly exploring new ways to challenge the status quo and drive innovation. As a seasoned entrepreneur and executive with nearly 30 years of experience\, he has leveraged cutting-edge technologies such as AI and machine learning to create market-defining solutions for numerous Fortune 500 companies. He co-founded Absolutdata\, which became a leader in AI and data analytics\, garnering numerous accolades\, including being named one of Forbes’ Best Management Consulting Firms and twice to Deloitte’s Fast 50. Absolutdata was backed by Eight Roads\, the Private Equity arm of Fidelity Investments\, and was acquired by the Silicon Valley-based Infogain in 2020. Anil stayed on as the Chief AI Officer for Infogain after the acquisition. \nCurrently\, Anil is the Founder and CEO of Agent Mira\, a revolutionary AI-powered residential real estate company. At Agent Mira\, they are not only transforming the home-buying and selling experience but also creating a scalable model with unit economics that outperform the industry. His focus is on building excitement through innovation—combining advanced AI with deep business understanding to deliver unmatched customer experiences. \nAnil’s work in AI and consumer behavior has been featured in Gartner Hype Cycle Reports and published in leading business journals. He has also been a frequent speaker at top business schools\, including Cornell\, Yale\, Dartmouth\, Columbia\, New York University\, and the University of California\, Berkeley. \nAnil was recently listed among the “10 Most Influential Analytics Leaders in India” by Analytics Magazine India and quoted as a “Game Changer” in Research World. \nOver the past 20 years at the helm of Absolutdata\, Anil led a team of more than 300 data scientists and engineers\, delivering advanced analytics and AI-powered solutions to global companies\, including 11 Fortune 100 companies. Before founding Absolutdata\, Anil worked at McKinsey Co. and Personify. He is also on the board of Edutopia\, an innovative startup in the language learning space\, and is on the Advisory Board of insurtech startup\, Concordia Exchange\, headquartered in Worcester. \nAnil holds a Ph.D. in Marketing from Cornell University and earned an MBA with a focus in Marketing from the University of Delhi. \n\nWithout the generous contributions of our sponsors\, this event would not be possible. We thank them for their continued support of our club and for helping to provide a platform for knowledge sharing in Central Massachusetts. \nPRESENTING SPONSOR:\n\nReception Sponsor:
URL:https://www.economicclub.net/event/dr-anil-kaul/
CATEGORIES:Upcoming Events
ATTACH;FMTTYPE=image/png:https://www.economicclub.net/wp-content/uploads/2026/03/Anil-Kaul-LIVE.png
END:VEVENT
END:VCALENDAR